BEGIN:VCALENDAR
PRODID:-//AT Content Types//AT Event//EN
VERSION:2.0
METHOD:PUBLISH
BEGIN:VEVENT
DTSTAMP:20260422T171254Z
CREATED:20120919T082941Z
UID:ATEvent-d0120594947610807874f99215dccd8f
LAST-MODIFIED:20120919T084049Z
SUMMARY:DER SCHATZ IM BETT
DTSTART:20120921T180000Z
DTEND:20120921T200000Z
DESCRIPTION:Frau Wolle erzÃ¤hlt gemeinsam mit Klaus Falschlunger (Sita
 r) Geschichten Ã¼ber Liebe\, TrÃ¤ume und den Lohn der Schlaflosigkeit\
 , sowie federleichte Musik zum Staunen\, Schmunzeln und Erwachen.\nFra
 u Wolle erzÃ¤hlt von Liebeslagern\, kostbaren TrÃ¤umen\, groÃŸherziger
  Gastfreundschaft und sogar von zwei Betten aus ihrem Leben. Wer schlÃ
 ¤ft auf der Ofenbank\, wovon trÃ¤umt man unterm Apfelbaum\, was tut ei
 n kluger Mann in der Hochzeitsnacht (und was auf keinen Fall)?
LOCATION:Greifenburg/KÃ¤rnten
CATEGORIES:KÃ¤rnten
CONTACT:Frau Wolle\, 0512-370316\, frau.wolle@utanet.at
URL:http://www.frauwolle.at
CLASS:PUBLIC
END:VEVENT
END:VCALENDAR
