BEGIN:VCALENDAR
PRODID:-//AT Content Types//AT Event//EN
VERSION:1.0
BEGIN:VEVENT
DTSTART:20111111T170000Z
DTEND:20111113T120000Z
DCREATED:20111030T213855Z
UID:ATEvent-46cd2809fcd999f36ba030bd0daaafc8
SEQUENCE:0
LAST-MODIFIED:20111030T213904Z
SUMMARY:Der Platz mit dem Schatz
DESCRIPTION:Erkenntnisorientiertes und theatrales Märchenstellen
LOCATION:München\, Evangalische Stadtakademie
PRIORITY:3
TRANSP:0
END:VEVENT
END:VCALENDAR
