BEGIN:VCALENDAR
PRODID:-//AT Content Types//AT Event//EN
VERSION:2.0
METHOD:PUBLISH
BEGIN:VEVENT
DTSTAMP:20260422T171253Z
CREATED:20120919T085311Z
UID:ATEvent-7d7b729286b0f48bbd849610f05914fd
LAST-MODIFIED:20120919T085625Z
SUMMARY:DER MANN AUS MARZIPAN
DTSTART:20121207T180000Z
DTEND:20121207T200000Z
DESCRIPTION:Geschichten und Märchen über Leben und Liebe zwischen Li
 cht und Dunkel erzählt von Frau Wolle und ein Menü von Engelbert Kau
 fmann\nEine Frau\, KEIN Mann\, aber reichlich Zucker und Mandeln ...\n
 eine Liebe mit Küssen so süß wie Marzipan und so salzig wie das Mee
 r...\n3 Mal 6 sehnsüchtige Monde\, 3 Paar eiserner Schuhe und 3 sehr 
 bange Tage\, dazu noch ungezählte Liebesnächte\, 1 schlafloser Schne
 ider\, ein Haufen schnatternder Gänse\, eine Mandel\, eine Walnuss un
 d eien Haselnuss...\nunbedingt reservieren unter 0043 - (0)5512 - 29 6
 6
LOCATION:Gasthof Adler in Schwarzenberg Bregenzer Wald Vorarlberg
CATEGORIES:Vorarlberg
CONTACT:Frau Wolle\, 0512-370316\, frau.wolle@utanet.at
URL:http://www.frauwolle.at
CLASS:PUBLIC
END:VEVENT
END:VCALENDAR
