BEGIN:VCALENDAR
PRODID:-//AT Content Types//AT Event//EN
VERSION:1.0
BEGIN:VEVENT
DTSTART:20120829T160000Z
DTEND:20120829T180000Z
DCREATED:20120806T162056Z
UID:ATEvent-45b46f0537f15579f3b0ede94ee31f57
SEQUENCE:0
LAST-MODIFIED:20120806T162353Z
SUMMARY:Der Drache im Berg
DESCRIPTION:Märchenerzähler Frederik Mellak\: Märchenwanderung in d
 er Lurgrotte mit Didgeridooperformance
LOCATION:Lurgrotte Semriach
PRIORITY:3
TRANSP:0
END:VEVENT
END:VCALENDAR
