BEGIN:VCALENDAR
PRODID:-//AT Content Types//AT Event//EN
VERSION:2.0
METHOD:PUBLISH
BEGIN:VEVENT
DTSTAMP:20260422T171246Z
CREATED:20120806T162516Z
UID:ATEvent-1cead6737f006d0fc9c6c64a01f879a0
LAST-MODIFIED:20120806T162700Z
SUMMARY:Der Drache im Berg
DTSTART:20120831T160000Z
DTEND:20120831T180000Z
DESCRIPTION:Märchenerzähler Frederik Mellak\: Märchenwanderung in d
 er Lurgrotte mit Didgeridooperformance\n7. Märchen- und Naturerlebnis
 tage im Schöcklland
LOCATION:Lurgrotte Semriach
CATEGORIES:Steiermark
CONTACT:Frederik Frans Mellak\, 0650/9108888
URL:http://www.freudeanmaerchen.at
CLASS:PUBLIC
END:VEVENT
END:VCALENDAR
