BEGIN:VCALENDAR
PRODID:-//AT Content Types//AT Event//EN
VERSION:1.0
BEGIN:VEVENT
DTSTART:20120830T160000Z
DTEND:20120830T180000Z
DCREATED:20120806T162257Z
UID:ATEvent-2bc5cbece9940450c92528a91e53063e
SEQUENCE:0
LAST-MODIFIED:20120806T162305Z
SUMMARY:Der Drache im Berg
DESCRIPTION:Märchenerzähler Frederik Mellak\: Märchenwanderung in d
 er Lurgrotte mit Didgeridooperformance
LOCATION:Lurgrotte Semriach
PRIORITY:3
TRANSP:0
END:VEVENT
END:VCALENDAR
