BEGIN:VCALENDAR
PRODID:-//AT Content Types//AT Event//EN
VERSION:1.0
BEGIN:VEVENT
DTSTART:20120909T070000Z
DTEND:20120909T120000Z
DCREATED:20120802T093821Z
UID:ATEvent-5ce087f4411bae9928ed35f8d5c65338
SEQUENCE:0
LAST-MODIFIED:20120802T094020Z
SUMMARY:Der Berg brennt
DESCRIPTION:Kultur- und Genusswanderung\, bei jeder Witterung! Erzähl
 erin Hertha Glück \nWanderung mit sagenhaften und schauerlichen Gesch
 ichten.\nAnschließend Mittagessen auf der Fraßenhütte. Bei Schlecht
 wetter im Muttersberg Restaurant
LOCATION:Treffpunkt Muttersberg Talstation
PRIORITY:3
TRANSP:0
END:VEVENT
END:VCALENDAR
