BEGIN:VCALENDAR
PRODID:-//AT Content Types//AT Event//EN
VERSION:1.0
BEGIN:VEVENT
DTSTART:20120818T160000Z
DTEND:20120818T173000Z
DCREATED:20120806T161031Z
UID:ATEvent-36b6fcd3b7add8772bcf900b2e22daf7
SEQUENCE:0
LAST-MODIFIED:20120806T161152Z
SUMMARY:Das Sonnenpferd im Dunkelland
DESCRIPTION:Märchenerzähler Frederik Frans Mellak
LOCATION:Gartenparadies Painer\, Eggersdorf
PRIORITY:3
TRANSP:0
END:VEVENT
END:VCALENDAR
