BEGIN:VCALENDAR
PRODID:-//AT Content Types//AT Event//EN
VERSION:2.0
METHOD:PUBLISH
BEGIN:VEVENT
DTSTAMP:20260422T171444Z
CREATED:20121030T114125Z
UID:ATEvent-f4ccdfbf557eede912d3f86c71758074
LAST-MODIFIED:20121030T114509Z
SUMMARY:"Herzfeuer" Grazer Nächte der Erzählkunst 2012\: Das Fest im Herzen
DTSTART:20121122T183000Z
DTEND:20121122T203000Z
DESCRIPTION:Aron Saltiel und Frederik Mellak erzählen Geschichten von
  der Kraft der Musik und musizieren gemeinsam mit dem Publikum / \nAnn
 a Hrozny spielt Harfe\, Drehleier\, Flöten\, Mandola  /  Anmeldung er
 beten unter 0699 12197373
LOCATION:Musiksalon Ehrfurt\, Herrengasse 3 in Graz
CATEGORIES:Steiermark
CONTACT:Frederik Mellak\, frederik.mellak@aon.at
URL:http://www.freudeanmaerchen.at/
CLASS:PUBLIC
END:VEVENT
END:VCALENDAR
