BEGIN:VCALENDAR
PRODID:-//AT Content Types//AT Event//EN
VERSION:2.0
METHOD:PUBLISH
BEGIN:VEVENT
DTSTAMP:20260422T172117Z
CREATED:20130607T131458Z
UID:ATEvent-091828f10523077a5e05f2baf0274d83
LAST-MODIFIED:20130607T132146Z
SUMMARY:BLÃœTENSTAUB und MÃ„USETANZ
DTSTART:20130703T150000Z
DTEND:20130703T163000Z
DESCRIPTION:ErzÃ¤hlerin Christa Schmollgruber fÃ¼hrt den MÃ¤rchen- und
  RÃ¤tselspaziergang durch den Augarten fÃ¼r groÃŸe und kleine ZuhÃ¶ren
 de.   /   Wir treffen uns auf der Wiese hinter dem Haupteingang\, dem 
 groÃŸen\, steinernen Tor\, und spazieren gemÃ¼tlich durch den Augarten
 \, machen zwischendurch Halt\, lauschen den MÃ¤rchen\, die uns von Zwe
 rgen\, Elfen und allerlei anderen Wunderwesen erzÃ¤hlen. Unsere letzte
  Station ist der Spielplatz. Dort Ã¶ffnen uns die Antworten auf die MÃ
 ¤rchen-RÃ¤tselfragen die Schatztruhe\, in der sich fÃ¼r jede/n etwas f
 indet.   /   Anmeldung\: 0676-3927021 oder cs@maerchenfuermenschen.at
LOCATION:Augarten\: Wiese hinterm Haupteingang
CATEGORIES:Wien
CONTACT:Christa Schmollgruber\, 0676-3927021\, cs@maerchenfuermenschen.at
URL:http://www.maerchenfuermenschen.at
CLASS:PUBLIC
END:VEVENT
END:VCALENDAR
