BEGIN:VCALENDAR
PRODID:-//AT Content Types//AT Event//EN
VERSION:1.0
BEGIN:VEVENT
DTSTART:20130717T150000Z
DTEND:20130717T163000Z
DCREATED:20130607T131818Z
UID:ATEvent-a8ea20e84059c9cf9eaa25c33b518d96
SEQUENCE:0
LAST-MODIFIED:20130607T131825Z
SUMMARY:BLÜTENSTAUB und MÄUSETANZ
DESCRIPTION:Christa Schmollgruber führt den Märchen- und Rätselspaz
 iergang durch den Augarten für große und kleine Zuhörende.   /   Wi
 r treffen uns auf der Wiese hinter dem Haupteingang\, dem großen\, st
 einernen Tor\, und spazieren gemütlich durch den Augarten\, machen zw
 ischendurch Halt\, lauschen den Märchen\, die uns von Zwergen\, Elfen
  und allerlei anderen Wunderwesen erzählen. Unsere letzte Station ist
  der Spielplatz. Dort öffnen uns die Antworten auf die Märchen-Räts
 elfragen die Schatztruhe\, in der sich für jede/n etwas findet.   /  
  Anmeldung\: 0676-3927021 oder cs@maerchenfuermenschen.at
LOCATION:Augarten\: Wiese hinterm Haupteingang
PRIORITY:3
TRANSP:0
END:VEVENT
END:VCALENDAR
