BEGIN:VCALENDAR
PRODID:-//AT Content Types//AT Event//EN
VERSION:2.0
METHOD:PUBLISH
BEGIN:VEVENT
DTSTAMP:20260422T145039Z
CREATED:20130607T134144Z
UID:ATEvent-34a3fccc94d7dc0fa67f3467357fc966
LAST-MODIFIED:20130607T134151Z
SUMMARY:BILDER-Geschichten
DTSTART:20130714T150000Z
DTEND:20130714T163000Z
DESCRIPTION:Erzählerin Christa Schmollgruber führt einen Märchen- u
 nd Sagen-reicher Rundgang durch die Ausstellung „Augarten“ der Kü
 nstlerin Heidemarie Bauch   /   um Anmeldung wird gebeten bei Mag.a Ch
 rista Schmollgruber\, 0676-3927021 oder cs@maerchenfuermenschen.at
LOCATION:Palmenhaus im Augarten\, 1020 Wien\, Obere Augartenstraße 1
CATEGORIES:Wien
CONTACT:Christa Schmollgruber\, 0676-3927021\, cs@maerchenfuermenschen.at
URL:http://www.maerchenfuermenschen.at
CLASS:PUBLIC
END:VEVENT
END:VCALENDAR
