BEGIN:VCALENDAR
PRODID:-//AT Content Types//AT Event//EN
VERSION:2.0
METHOD:PUBLISH
BEGIN:VEVENT
DTSTAMP:20260422T173559Z
CREATED:20120802T092057Z
UID:ATEvent-5df7c19775206e69271c06697c695af2
LAST-MODIFIED:20120802T093412Z
SUMMARY:Auf der Schatzsuche in der Ruine Sigberg Göfis für Menschen ab 07
DTSTART:20120818T220000Z
DTEND:20120819T140000Z
DESCRIPTION:Veranstaltung vom Österreichischem Alpenverein\; Erzähle
 rin Hertha Glück\: \nMit einem kurzen\, steilen Anstieg wird der sage
 numwobene Gasserplatz in Göfis erreicht und bei der Stieleiche kann s
 chon zum ersten Mal gerastet werden\, denn vieles gibt es zu erzählen
 . Durch den schattenspendenden Wald gelangen wir gemütlich zur Ruine 
 Sigberg\, die viele Geheimnisse birgt\, vielleicht sogar einen Schatz.
  Besonders einladend ist der Grillplatz. Gestärkt lässt es sich gut 
 zum Gletschertopf nah am Ambergtunnel wandern und zu guter Letzt in de
 r Schattenburg ankommen. Auch hier warten wieder viele Sagen und Gesch
 ichten auf müde Füße und offene Ohren.
LOCATION:Treffpunkt Bahnhof Feldkirch\, vor dem Haupteingang
CATEGORIES:Vorarlberg
CONTACT:Hertha Glück\, 0664 19 57 427\, hertha.glueck@aon.at
URL:http://www.herthaglueck.at
CLASS:PUBLIC
END:VEVENT
END:VCALENDAR
