BEGIN:VCALENDAR
PRODID:-//AT Content Types//AT Event//EN
VERSION:2.0
METHOD:PUBLISH
BEGIN:VEVENT
DTSTAMP:20260422T171444Z
CREATED:20120726T134304Z
UID:ATEvent-998bd8b0fbdb4354e3866a853cc2a0b4
LAST-MODIFIED:20120726T135858Z
SUMMARY:Abenteuer Lagerfeuer
DTSTART:20120728T173000Z
DTEND:20120728T193000Z
DESCRIPTION:Erzählerin Barbara Beinsteiner\: Märchen am Lagerfeuer f
 rei erzählt\, für mutige Menschen ab 6 Jahren.\nDazu Suppe aus dem H
 exenkessel und Brot auf dem Steckerl.
LOCATION:Am Osterfeld in Afling
CATEGORIES:Tirol
CONTACT:Barbara Beinsteiner\, 0043-699-11166921\, barbara.beinsteiner@gmx.at
URL:http://www.barbarabeinsteiner.at/Website/Aktuelles.html
CLASS:PUBLIC
END:VEVENT
END:VCALENDAR
