BEGIN:VCALENDAR
PRODID:-//AT Content Types//AT Event//EN
VERSION:2.0
METHOD:PUBLISH
BEGIN:VEVENT
DTSTAMP:20260422T171701Z
CREATED:20130528T093446Z
UID:ATEvent-0147afc064be1cd2fb5d815d7c0cadb2
LAST-MODIFIED:20130528T093457Z
SUMMARY:Abenteuer-Lagerfeuer
DTSTART:20130720T170000Z
DTEND:20130720T190000Z
DESCRIPTION:Barbara Beinsteiner erzählt Märchen für abenteuerlustig
 e Leute mit neugierigen Ohren! Im Kessel hängt schon die Suppe am Feu
 er! - Der Eintritt kostet für Kinder 9 €\, für Erwachsene 13 €. 
 Bei 3 oder mehr Kindern pro Familie 7 € pro Kind. - ... wenn´s regn
 et? Dann sitzen wir im großen Zelt und lassen uns den Spaß nicht ver
 derben! - Die genaue Wegbeschreibung bekommt Ihr bei der Anmeldung. Ei
 ne Anmeldung ist UNBEDINGT erforderlich.
LOCATION:Afling (Nähe Völs) am Osterfeld\: genaue Wegbeschreibung bei Anmeldung
CATEGORIES:Tirol
CONTACT:Barbara Beinsteiner\, 0699-11166921\, barbara.beinsteiner@gmx.at
CLASS:PUBLIC
END:VEVENT
END:VCALENDAR
