BEGIN:VCALENDAR
PRODID:-//AT Content Types//AT Event//EN
VERSION:1.0
BEGIN:VEVENT
DTSTART:20130706T170000Z
DTEND:20130706T190000Z
DCREATED:20130528T093337Z
UID:ATEvent-d735de83bdba2b775397d87071d52672
SEQUENCE:0
LAST-MODIFIED:20130528T093343Z
SUMMARY:Abenteuer-Lagerfeuer
DESCRIPTION:Barbara Beinsteiner erzählt Märchen für abenteuerlustig
 e Leute mit neugierigen Ohren! Im Kessel hängt schon die Suppe am Feu
 er! - Der Eintritt kostet für Kinder 9 €\, für Erwachsene 13 €. 
 Bei 3 oder mehr Kindern pro Familie 7 € pro Kind. - ... wenn´s regn
 et? Dann sitzen wir im großen Zelt und lassen uns den Spaß nicht ver
 derben! - Die genaue Wegbeschreibung bekommt Ihr bei der Anmeldung. Ei
 ne Anmeldung ist UNBEDINGT erforderlich.
LOCATION:Afling (Nähe Völs) am Osterfeld\: genaue Wegbeschreibung bei Anmeldung
PRIORITY:3
TRANSP:0
END:VEVENT
END:VCALENDAR
