BEGIN:VCALENDAR
PRODID:-//AT Content Types//AT Event//EN
VERSION:2.0
METHOD:PUBLISH
BEGIN:VEVENT
DTSTAMP:20260422T194447Z
CREATED:20120726T135745Z
UID:ATEvent-a993a89a5ac4e8aaf2cdd29cd41e4883
LAST-MODIFIED:20120730T133806Z
SUMMARY:Abenteuer Lagerfeuer
DTSTART:20120811T173000Z
DTEND:20120811T193000Z
DESCRIPTION:Erzählerin\: Barbara Beinsteiner\; \nMärchen am Lagerfeu
 er frei erzählt\, für mutige Menschen ab 6 Jahren.\nDazu Suppe aus d
 em Hexenkessel und Brot auf dem Steckerl.
LOCATION:Am Osterfeld in Afling
CATEGORIES:Tirol
CONTACT:Barbara Beinsteiner\, 0043-699-11166921\, barbara.beinsteiner@gmx.at
URL:http://www.barbarabeinsteiner.at/Website/Aktuelles.html
CLASS:PUBLIC
END:VEVENT
END:VCALENDAR
