BEGIN:VCALENDAR
PRODID:-//AT Content Types//AT Event//EN
VERSION:1.0
BEGIN:VEVENT
DTSTART:20121216T173000Z
DTEND:20121216T183000Z
DCREATED:20121210T160135Z
UID:ATEvent-b402647ad946f142c17e9f8ed136106c
SEQUENCE:0
LAST-MODIFIED:20121210T160154Z
SUMMARY:DEN WINTER SPINNEN ...
DESCRIPTION:Erzählerin Christa Schmollgruber   /   Eintritt\: € 12\
 ,-
LOCATION:Kleine Kapelle\, Weihburggasse 14\, 1010 Wien
PRIORITY:3
TRANSP:0
END:VEVENT
END:VCALENDAR
