BEGIN:VCALENDAR
PRODID:-//AT Content Types//AT Event//EN
VERSION:1.0
BEGIN:VEVENT
DTSTART:20121121T080000Z
DTEND:20121125T180000Z
DCREATED:20120727T124959Z
UID:ATEvent-9d98c6e435c3844981a3d6466bc61813
SEQUENCE:0
LAST-MODIFIED:20121016T161436Z
SUMMARY:4. Internationales Erzählkunstfestival Brixen
DESCRIPTION:alle Informationen inklusive Programm siehe\: http\://www.
 jukas.net/cs.asp?st=138
LOCATION:Jugendhaus Kassianeum\, Brunogasse 2\, I-39042 Brixen
PRIORITY:3
TRANSP:0
END:VEVENT
END:VCALENDAR
