BEGIN:VCALENDAR
PRODID:-//AT Content Types//AT Event//EN
VERSION:2.0
METHOD:PUBLISH
BEGIN:VEVENT
DTSTAMP:20260422T193902Z
CREATED:20121001T103305Z
UID:ATEvent-10623840ef88a014a918c1302442b9de
LAST-MODIFIED:20121001T103337Z
SUMMARY:„Den Schatz heben“
DTSTART:20121018T170000Z
DTEND:20121018T193000Z
DESCRIPTION:Frederik Frans Mellak\, Rosemarie Popp und Annemarie Pichl
 er erzählen steirische Märchen.\nMusikalisch begleitet von der „Zw
 iegrabler Stubenmusi“.\nIm Rahmen der Volkskulturtage Eisenerz\nFür
  nähere Informationen\: Stadtmuseum 03848 2511-68 / Infobüro 03848 2
 511-81\nEintritt\: Abendkassa\: 10\,00 € / Vorverkauf\: 8\,00 € im
  Infobüro
LOCATION:Museum im Alten Rathaus
CATEGORIES:Steiermark
CONTACT:Infobüro Kulturreferat der Stadtgemeinde Eisenerz\, 03848 2511 81
CLASS:PUBLIC
END:VEVENT
END:VCALENDAR
