BEGIN:VCALENDAR
PRODID:-//AT Content Types//AT Event//EN
VERSION:1.0
BEGIN:VEVENT
DTSTART:20111216T140000Z
DTEND:20111216T150000Z
DCREATED:20111030T215246Z
UID:ATEvent-718c408daa62548150399cb581a2bbdf
SEQUENCE:0
LAST-MODIFIED:20111030T215256Z
SUMMARY:…und das ist unsere Sonne.
DESCRIPTION:Lichtmärchen zur finstersten Jahreszeit
LOCATION:Kreativwerkstatt Blumberg\, 1160 Wien\, Blumberggasse 4\, Souterrain
PRIORITY:3
TRANSP:0
END:VEVENT
END:VCALENDAR
