BEGIN:VCALENDAR
PRODID:-//AT Content Types//AT Event//EN
VERSION:2.0
METHOD:PUBLISH
BEGIN:VEVENT
DTSTAMP:20260422T171244Z
CREATED:20111030T215830Z
UID:ATEvent-76491beb1b58958eb3cba3fbc19d3048
LAST-MODIFIED:20111030T215838Z
SUMMARY:...und das ist unsere Sonne.
DTSTART:20111218T140000Z
DTEND:20111218T150000Z
DESCRIPTION:Lichtmärchen zur finstersten Jahreszeit
LOCATION:Kreativwerkstatt Blumberg\, 1160 Wien\, Blumberggasse 4\, Souterrain
CATEGORIES:Wien
CONTACT:Margarete Wenzel\, 01-481 76 64\, mw@maerchenakademie-wien.at
URL:http://www.maerchenakademie-wien.at
CLASS:PUBLIC
END:VEVENT
END:VCALENDAR
