BEGIN:VCALENDAR
PRODID:-//AT Content Types//AT Event//EN
VERSION:1.0
BEGIN:VEVENT
DTSTART:20111217T140000Z
DTEND:20111217T150000Z
DCREATED:20111030T215539Z
UID:ATEvent-e9b45d04027a3ee76218768926e99474
SEQUENCE:0
LAST-MODIFIED:20111030T215552Z
SUMMARY:…und das ist unsere Sonne.
DESCRIPTION:Lichtmärchen zur finstersten Jahreszeit
LOCATION:Kreativwerkstatt Blumberg\, 1160 Wien\, Blumberggasse 4\, Souterrain
PRIORITY:3
TRANSP:0
END:VEVENT
END:VCALENDAR
