BEGIN:VCALENDAR
PRODID:-//AT Content Types//AT Event//EN
VERSION:1.0
BEGIN:VEVENT
DTSTART:20111126T140000Z
DTEND:20111126T144500Z
DCREATED:20111103T140929Z
UID:ATEvent-ea58c80e3d0f0d8785337a38c524b30a
SEQUENCE:0
LAST-MODIFIED:20111103T141147Z
SUMMARY:Geschichten aus der Weihnachtskiste
DESCRIPTION:Saga Susa erzählt...
LOCATION:theaterei\, 3051 St. Christophen
PRIORITY:3
TRANSP:0
END:VEVENT
END:VCALENDAR
