BEGIN:VCALENDAR
PRODID:-//AT Content Types//AT Event//EN
VERSION:2.0
METHOD:PUBLISH
BEGIN:VEVENT
DTSTAMP:20260423T233144Z
CREATED:20090928T201417Z
UID:ATEvent-c0d244e036eb40b6da80ff017b840119
LAST-MODIFIED:20090928T202121Z
SUMMARY:Von Unglück und Glück
DTSTART:20091113T180000Z
DTEND:20091113T200000Z
DESCRIPTION:Am Freitag dem 13. wird erzählt von Unglück und Glück
LOCATION:Lebenswasserhof\, Bahnstr. 3\, 2284 Untersiebenbrunn
CATEGORIES:Niederösterreich
CONTACT:Rosemarie Staudigl\, 02286/2136\, 0680 122425\, rosemarie.st@gmx.at
URL:http://www.margaretewenzel.com
CLASS:PUBLIC
END:VEVENT
END:VCALENDAR
