BEGIN:VCALENDAR
PRODID:-//AT Content Types//AT Event//EN
VERSION:2.0
METHOD:PUBLISH
BEGIN:VEVENT
DTSTAMP:20260424T020833Z
CREATED:20100121T212638Z
UID:ATEvent-3ff9dea6207e55c7e4c7d3f96be73fc5
LAST-MODIFIED:20100121T212649Z
SUMMARY:Schätze\, Erlebnisnacht im WUK
DTSTART:20100320T180000Z
DTEND:20100321T070000Z
DESCRIPTION:Margarete Wenzel erzählt\, Pete Belcher spielt Theater \n
 und es geschieht rundum noch allerlei Märchenhaftes.
LOCATION:Kreativwerkstatt Blumberg\, Blumberggasse 4\, Souterrain\, 1160 Wien
CATEGORIES:Wien
CONTACT:WUK-Kinderkultur\, 01- 40121-52\, kinderkultur@wuk.at
URL:http://www.maerchenakademie-wien.at
CLASS:PUBLIC
END:VEVENT
END:VCALENDAR
