BEGIN:VCALENDAR
PRODID:-//AT Content Types//AT Event//EN
VERSION:2.0
METHOD:PUBLISH
BEGIN:VEVENT
DTSTAMP:20260424T015642Z
CREATED:20100121T211749Z
UID:ATEvent-cdc2124c43a94165d710f1b8605561e3
LAST-MODIFIED:20100121T211800Z
SUMMARY:In den Schlaf erzählt - Mit Märchen geweckt
DTSTART:20100213T200000Z
DTEND:20100214T080000Z
DESCRIPTION:Märchennacht in der Kreativwerkstatt
LOCATION:Kreativwerkstatt Blumberg\, Blumberggasse 4\, Souterrain\, 1160 Wien
CATEGORIES:Wien
CONTACT:Margarete Wenzel\, 01-481 76 64\, mw@maerchenakademie-wien.at
URL:http://www.maerchenakademie-wien.at
CLASS:PUBLIC
END:VEVENT
END:VCALENDAR
