BEGIN:VCALENDAR
PRODID:-//AT Content Types//AT Event//EN
VERSION:2.0
METHOD:PUBLISH
BEGIN:VEVENT
DTSTAMP:20260424T041447Z
CREATED:20091007T082311Z
UID:ATEvent-ae97d812edd305594a4d9a40540667a0
LAST-MODIFIED:20091007T082312Z
SUMMARY:Handel und Wandel-Märchen
DTSTART:20091211T150000Z
DTEND:20091211T160000Z
DESCRIPTION:Vergnüglich und gemütlich frei erzählte Volksmärchen a
 us allerlei Ländern
LOCATION:Kreativwerkstatt Blumberg\, Blumberggasse 4\, 1160 Wien
CONTACT:Margarete Wenzel\, 01-481 76 64\, margaretewen@tele2.at
URL:http://www.margaretewenzel.com
CLASS:PUBLIC
END:VEVENT
END:VCALENDAR
