BEGIN:VCALENDAR
PRODID:-//AT Content Types//AT Event//EN
VERSION:1.0
BEGIN:VEVENT
DTSTART:20090912T160000Z
DTEND:20090912T200000Z
DCREATED:20090731T123754Z
UID:ATEvent-11bfbdc1bba7ecdc3726a99b410225b9
SEQUENCE:0
LAST-MODIFIED:20090731T135050Z
SUMMARY:Find the Goat - Vom Geisslein erzählen
DESCRIPTION:Live-Malerei und mündliches Erzählen\nTom Venning und Ma
 rgarete Wenzel
LOCATION:Kreativwerkstatt Blumberg\, Blumberggasse 4\, 1160 Wien
PRIORITY:3
TRANSP:0
END:VEVENT
END:VCALENDAR
