BEGIN:VCALENDAR
PRODID:-//AT Content Types//AT Event//EN
VERSION:2.0
METHOD:PUBLISH
BEGIN:VEVENT
DTSTAMP:20260423T233658Z
CREATED:20100120T065507Z
UID:ATEvent-96abe0bb5d1de844cf69dcf64f766411
LAST-MODIFIED:20100121T205606Z
SUMMARY:Dschinroku und 33 Gründe\, mündlich zu erzählen
DTSTART:20100126T183000Z
DTEND:20100126T200000Z
DESCRIPTION:Vier arrivierte ErzählerInnen und eine Musikerin\nkommen 
 aus verschiedenen Gegenden Österreichs\nund argumentieren mit mündli
 ch erzählten Geschichten und Märchenmusik\nfür das mündliche Erzä
 hlen.
LOCATION:Kreativwerkstatt Blumberg\, Blumberggasse 4\, Souterrain\, 1160 Wien
CATEGORIES:Wien
CONTACT:Margarete Wenzel\, 01-481 76 64\, mw@maerchenakademie-wien.at
URL:http://www.maerchenakademie-wien.at
CLASS:PUBLIC
END:VEVENT
END:VCALENDAR
