BEGIN:VCALENDAR
PRODID:-//AT Content Types//AT Event//EN
VERSION:2.0
METHOD:PUBLISH
BEGIN:VEVENT
DTSTAMP:20260424T015853Z
CREATED:20100121T210703Z
UID:ATEvent-9e0d82bb3ebbddca0e7e33f62a4de846
LAST-MODIFIED:20100121T210713Z
SUMMARY:Dschinroku und 33 Gründe\, mündlich zu erzählen
DTSTART:20100312T183000Z
DTEND:20100312T200000Z
DESCRIPTION:Vier arrivierte ErzählerInnen und eine Musikerin\nkommen 
 aus verschiedenen Gegenden Österreichs\nund argumentieren mit mündli
 ch erzählten Geschichten und Märchenmusik\nfür das mündliche Erzä
 hlen.
LOCATION:Kreativwerkstatt Blumberg\, Blumberggasse 4\, Souterrain\, 1160 Wien
CATEGORIES:Wien
CONTACT:Margarete Wenzel\, 01-481 76 64\, mw@maerchenakademie-wien.at
URL:http://www.maerchenakademie-wien.at
CLASS:PUBLIC
END:VEVENT
END:VCALENDAR
