BEGIN:VCALENDAR
PRODID:-//AT Content Types//AT Event//EN
VERSION:2.0
METHOD:PUBLISH
BEGIN:VEVENT
DTSTAMP:20260424T015854Z
CREATED:20100121T210248Z
UID:ATEvent-e44e500e9be4a55368f5a930736d7316
LAST-MODIFIED:20100121T221604Z
SUMMARY:Dschinroku und 33 Gründe\, mündlich zu erzählen
DTSTART:20100226T183000Z
DTEND:20100226T200000Z
DESCRIPTION:Vier arrivierte ErzählerInnen und eine Musikerin\nkommen 
 aus verschiedenen Gegenden Österreichs\nund argumentieren mit mündli
 ch erzählten Geschichten und Märchenmusik\nfür das mündliche Erzä
 hlen.
CATEGORIES:Wien
CONTACT:Margarete Wenzel\, 01-481 76 64\, mw@maerchenakademie-wien.at
URL:http://www.maerchenakademie-wien.at
CLASS:PUBLIC
END:VEVENT
END:VCALENDAR
