BEGIN:VCALENDAR
PRODID:-//AT Content Types//AT Event//EN
VERSION:1.0
BEGIN:VEVENT
DTSTART:20100212T183000Z
DTEND:20100212T200000Z
DCREATED:20100121T204715Z
UID:ATEvent-1e3f1a28716575cb581ad7a22e78a2da
SEQUENCE:0
LAST-MODIFIED:20100121T205801Z
SUMMARY:Dschinroku und 33 Gründe\, mündlich zu erzählen
DESCRIPTION:Vier arrivierte ErzählerInnen und eine Musikerin\nkommen 
 aus verschiedenen Gegenden Österreichs\nund argumentieren mit mündli
 ch erzählten Geschichten und Märchenmusik\nfür das mündliche Erzä
 hlen.
LOCATION:Kreativwerkstatt Blumberg\, Blumberggasse 4\, Souterrain\, 1160 Wien
PRIORITY:3
TRANSP:0
END:VEVENT
END:VCALENDAR
