BEGIN:VCALENDAR
PRODID:-//AT Content Types//AT Event//EN
VERSION:1.0
BEGIN:VEVENT
DTSTART:20091003T170000Z
DTEND:20091003T173000Z
DCREATED:20090928T095704Z
UID:ATEvent-86a49bf090d5235b8fde41e4d033c6ee
SEQUENCE:0
LAST-MODIFIED:20090928T195746Z
SUMMARY:Das Brokatbild
DESCRIPTION:In der Ausstellung "Textile Märchen" erzählt Margarete W
 enzel ein asiatisches Volksmärchen von der Mühe\, textile Kunst zu s
 chaffen und der Kostbarkeit\, die dabei entsteht.
LOCATION:MAK\, Museum für angewandte Kunst\, Stubenring 5\, 1010 Wien
PRIORITY:3
TRANSP:0
END:VEVENT
END:VCALENDAR
