BEGIN:VCALENDAR
PRODID:-//AT Content Types//AT Event//EN
VERSION:1.0
BEGIN:VEVENT
DTSTART:20091003T183000Z
DTEND:20091003T190000Z
DCREATED:20090928T200236Z
UID:ATEvent-a4c814e9231109896817dcfcf9765fc3
SEQUENCE:0
LAST-MODIFIED:20090928T200252Z
SUMMARY:Das Brokatbild
DESCRIPTION:In der Ausstellung "Textile Märchen" erzählt Margarete W
 enzel ein asiatisches Volksmärchen von der Mühe\, textile Kunst zu s
 chaffen und der Kostbarkeit\, die dabei entsteht.
LOCATION:MAK\, Museum für angewandte Kunst\, Stubenring 5\, 1010 Wien
PRIORITY:3
TRANSP:0
END:VEVENT
END:VCALENDAR
