BEGIN:VCALENDAR
PRODID:-//AT Content Types//AT Event//EN
VERSION:2.0
METHOD:PUBLISH
BEGIN:VEVENT
DTSTAMP:20260423T232732Z
CREATED:20090928T203521Z
UID:ATEvent-7d47514304b6fa51522a6bb4f24e3df4
LAST-MODIFIED:20090928T203535Z
SUMMARY:1001 Wunsch-Geschenk
DTSTART:20091218T140000Z
DTEND:20091218T150000Z
DESCRIPTION:Wintermärchen zum Wohlfühlen
LOCATION:Kreativwerkstatt Blumberg\, Blumberggasse 4\, 1160 Wien
CATEGORIES:Wien
CONTACT:Margarete Wenzel\, Dr.phil.\, 01-4817664\, mw@maerchenakademie-wien.at
URL:http://www.maerchenakademie-wien.at
CLASS:PUBLIC
END:VEVENT
END:VCALENDAR
