BEGIN:VCALENDAR
PRODID:-//AT Content Types//AT Event//EN
VERSION:2.0
METHOD:PUBLISH
BEGIN:VEVENT
DTSTAMP:20260423T232828Z
CREATED:20090928T204542Z
UID:ATEvent-6fba077e354f20ddf017319deb45330f
LAST-MODIFIED:20090928T204557Z
SUMMARY:1001 Wunsch-Geschenk
DTSTART:20091220T140000Z
DTEND:20091220T150000Z
DESCRIPTION:Wintermärchen zum Wohlfühlen
LOCATION:Kreativwerkstatt Blumberg\, Blumberggasse 4\, 1160 Wien
CATEGORIES:Wien
CONTACT:Margarete Wenzel\, Dr.phil.\, 01-481 76 64\, mw@maerchenakademie-wien.at
URL:http://www.maerchenakademie-wien.at
CLASS:PUBLIC
END:VEVENT
END:VCALENDAR
