BEGIN:VCALENDAR
PRODID:-//AT Content Types//AT Event//EN
VERSION:2.0
METHOD:PUBLISH
BEGIN:VEVENT
DTSTAMP:20260423T150135Z
CREATED:20130624T192257Z
UID:ATEvent-ced44a26ccc47d85380f7bbf517a6c26
LAST-MODIFIED:20130624T192258Z
SUMMARY:Wie die Blumen in die Welt kamen
DTSTART:20130630T100000Z
DTEND:20130630T113000Z
DESCRIPTION:Erzählzeit für junge und jung gebliebene Menschen
LOCATION:Evangelische Kirche\, Bregenz Am Ölrain
CATEGORIES:Vorarlberg
CLASS:PUBLIC
END:VEVENT
END:VCALENDAR
