BEGIN:VCALENDAR
PRODID:-//AT Content Types//AT Event//EN
VERSION:2.0
METHOD:PUBLISH
BEGIN:VEVENT
DTSTAMP:20260423T145031Z
CREATED:20131107T211202Z
UID:ATEvent-6cd673524c85367ffc328f4a0057a777
LAST-MODIFIED:20131107T211203Z
SUMMARY:Märchen vom Heilen
DTSTART:20131115T121000Z
DTEND:20131115T131000Z
DESCRIPTION:Im Rahmebn des Ländlepflegetages erzählt Manusch Märche
 n und Geschichten vom Fürsorgen und Überleben.
LOCATION:LKH Feldkirch
CATEGORIES:Vorarlberg
CLASS:PUBLIC
END:VEVENT
END:VCALENDAR
