BEGIN:VCALENDAR
PRODID:-//AT Content Types//AT Event//EN
VERSION:2.0
METHOD:PUBLISH
BEGIN:VEVENT
DTSTAMP:20260423T150230Z
CREATED:20130916T201325Z
UID:ATEvent-dd572c369764e8788843172d3716c89b
LAST-MODIFIED:20130916T201330Z
SUMMARY:Lange Nacht der Museen
DTSTART:20131005T160000Z
DTEND:20131005T190000Z
DESCRIPTION:Reise in das Land der Phantasie.\nWir hören von sprechend
 en Bäumen\, träumenden Drachen oder wundern uns über närrische Leu
 t´ .\n18 h für Gross und Klein\, 20 h für (fast) Erwachsene
LOCATION:Wolfurt Spielzeugmuseum
URL:http://langenacht.orf.at/detail-new/bl/vorarlberg/li/spielzeugmuseum-wolfurt/
CLASS:PUBLIC
END:VEVENT
END:VCALENDAR
