BEGIN:VCALENDAR
PRODID:-//AT Content Types//AT Event//EN
VERSION:2.0
METHOD:PUBLISH
BEGIN:VEVENT
DTSTAMP:20260423T150326Z
CREATED:20130624T191855Z
UID:ATEvent-dac6f186d32ad3a331266da3c2d43c08
LAST-MODIFIED:20130624T191856Z
SUMMARY:Kinder- und Jugendbuchmesse
DTSTART:20130625T192000Z
DTEND:20130628T192000Z
DESCRIPTION:In der kulturbühne Am Bach in Götzis findet vom 25. bis 
 28.6. ganze 3 tage lang ein fest zur literatur statt.\nich bin dort mi
 ttags mit 2-sprachigen märchen und sonst ganztags an einem stand zu f
 inden - Zauberworte - Wortezauber
LOCATION:bühne am bach\, götzis
CATEGORIES:Vorarlberg
CLASS:PUBLIC
END:VEVENT
END:VCALENDAR
