BEGIN:VCALENDAR
PRODID:-//AT Content Types//AT Event//EN
VERSION:2.0
METHOD:PUBLISH
BEGIN:VEVENT
DTSTAMP:20260423T150402Z
CREATED:20130313T130107Z
UID:ATEvent-5539e0512dfd0674f5ba6082ff38e22f
LAST-MODIFIED:20130313T130108Z
SUMMARY:Glück ist ein seltener Vogel
DTSTART:20130322T160000Z
DTEND:20130322T170000Z
DESCRIPTION:Manusch erzählt Gecshichten rund ums Glück\, Unglück un
 d Schicksal.\nIm Rahmen des 10.ten intern. WeltGeschichtenTages werden
  rund um den Globus Geschichten und Märchen zum Thema zu Beginn des F
 rühlings erzählt. Mehr unter .www.weltgeschichtentag.de
LOCATION:Bregenz - Cafe Per du
CONTACT:manusch@aon.at
URL:http://www.wirkstattsteger.at
CLASS:PUBLIC
END:VEVENT
END:VCALENDAR
