BEGIN:VCALENDAR
PRODID:-//AT Content Types//AT Event//EN
VERSION:2.0
METHOD:PUBLISH
BEGIN:VEVENT
DTSTAMP:20260423T150230Z
CREATED:20131107T211514Z
UID:ATEvent-3daacc494f287afdff3fa8f2bca72b38
LAST-MODIFIED:20131107T211514Z
SUMMARY:Eine Reise durch die Welt
DTSTART:20131130T123000Z
DTEND:20131130T143000Z
DESCRIPTION:Im Kinderdorf Bregenz ist der alljährliche Tag der Offene
 n Tür zur Vorweihnachtszeit.\nManusch führt gross + klein mit Geschi
 chten und Märchen auf eine Reise durch die weihnachtliche Welt.
LOCATION:Kinderdorf Bregenz
CLASS:PUBLIC
END:VEVENT
END:VCALENDAR
