BEGIN:VCALENDAR
PRODID:-//AT Content Types//AT Event//EN
VERSION:2.0
METHOD:PUBLISH
BEGIN:VEVENT
DTSTAMP:20260423T150700Z
CREATED:20110523T101348Z
UID:ATEvent-be63a305f8fbc6bc2a1fcd990b6a04e2
LAST-MODIFIED:20110523T101349Z
SUMMARY:Baklava & Öpflschnitz
DTSTART:20110604T130000Z
DTEND:20110604T150000Z
DESCRIPTION:2 Frauen erzählen in 2 Sprachen - türkisch und deutsch -
  Mächen und Geschichten\nEine Brücke zwischen den Kulturen
LOCATION:Bludenz - 'Musiksaal Schulparkt
CLASS:PUBLIC
END:VEVENT
END:VCALENDAR
