BEGIN:VCALENDAR
PRODID:-//AT Content Types//AT Event//EN
VERSION:1.0
BEGIN:VEVENT
DTSTART:20121212T140000Z
DTEND:20121212T150000Z
DCREATED:20121207T115506Z
UID:ATEvent-b72b23ccd63bb13f5767750b993e6154
SEQUENCE:0
LAST-MODIFIED:20121207T115626Z
SUMMARY:BAKLAVA & ÖPFLSCHNITZ
DESCRIPTION:2 Frauen erzählen in 2 Sprachen Geschichten aus 2 Länder
 n - Türkei und Österreich\n2 kadin 2 dilde anlatiyorlar
LOCATION:interkult. Frauencafe Höchst
PRIORITY:3
TRANSP:0
END:VEVENT
END:VCALENDAR
