BEGIN:VCALENDAR
PRODID:-//AT Content Types//AT Event//EN
VERSION:2.0
METHOD:PUBLISH
BEGIN:VEVENT
DTSTAMP:20260423T151154Z
CREATED:20121207T115949Z
UID:ATEvent-cf9133aecbd9cf4c95038e53065f99b9
LAST-MODIFIED:20121207T120054Z
SUMMARY:..hört nur....Manusch erzählt Geschichten zur Weihnachtszeit
DTSTART:20121215T150000Z
DTEND:20121215T163000Z
DESCRIPTION:stille\, geheimnisvolle und besondere Geschichten zu höre
 n  - im Cafe Per Du \, Ammianusstr. 1\, Bregenz
LOCATION:Bregenz - Cafe Per du
CATEGORIES:Vorarlberg
CLASS:PUBLIC
END:VEVENT
END:VCALENDAR
