BEGIN:VCALENDAR
PRODID:-//AT Content Types//AT Event//EN
VERSION:2.0
METHOD:PUBLISH
BEGIN:VEVENT
DTSTAMP:20260424T091323Z
CREATED:20120727T083639Z
UID:ATEvent-e7aeab73760cba299e1f1ba85a36f35c
LAST-MODIFIED:20120727T083639Z
SUMMARY:Ohrenschmaus mit Zungenfleisch
DTSTART:20120801T173000Z
DTEND:20120801T193000Z
DESCRIPTION:ein Erzähl- und Klangabend für Erwachsene und ältere Ki
 nder mit Kerstin Trixl
LOCATION:Hintermaisalm in Hinterglemm
CATEGORIES:Salzburg
CONTACT:Sabine Gensbichler\, 06541 – 64 88\, hintermais@aon.at
CLASS:PUBLIC
END:VEVENT
END:VCALENDAR
