BEGIN:VCALENDAR
PRODID:-//AT Content Types//AT Event//EN
VERSION:1.0
BEGIN:VEVENT
DTSTART:20110728T173000Z
DTEND:20110728T193000Z
DCREATED:20110610T092606Z
UID:ATEvent-f9ddfd0532dec14e19a33de5ed778b0d
SEQUENCE:0
LAST-MODIFIED:20110610T092606Z
SUMMARY:Auf Reisen durch die Welt und zu uns selbst
DESCRIPTION:ein Märchen- und Klangabend für Erwachsene und Familien 
 mit Kerstin Trixl
LOCATION:Hintermaisalm\, Fam. Gensbichler in Hinterglemm
PRIORITY:3
TRANSP:0
END:VEVENT
END:VCALENDAR
