BEGIN:VCALENDAR
PRODID:-//AT Content Types//AT Event//EN
VERSION:1.0
BEGIN:VEVENT
DTSTART:20090414T180000Z
DTEND:20090414T200000Z
DCREATED:20090413T094445Z
UID:ATEvent-972f105f0e328fee0bc4dfe08484b175
SEQUENCE:0
LAST-MODIFIED:20090413T101856Z
SUMMARY:Märchenstunde
LOCATION:Hier
PRIORITY:3
TRANSP:0
END:VEVENT
END:VCALENDAR
