BEGIN:VCALENDAR
PRODID:-//AT Content Types//AT Event//EN
VERSION:1.0
BEGIN:VEVENT
DTSTART:20130717T121500Z
DTEND:20130717T150000Z
DCREATED:20130701T143150Z
UID:ATEvent-7155c40ad497780b5eaf5349b3ae98f9
SEQUENCE:0
LAST-MODIFIED:20130701T143202Z
SUMMARY:Wasserspiele am Zuger Älpele mit Hertha Glück
DESCRIPTION:Auf der Suche nach dem Wasserungeheuer und dem Wasser für
 s Leben.
LOCATION:Zuger Älpele\, Zug\, Lech
PRIORITY:3
TRANSP:0
END:VEVENT
END:VCALENDAR
